BEGIN:VCALENDAR
VERSION:2.0
PRODID:-//The Sustainability Consortium - ECPv6.15.17//NONSGML v1.0//EN
CALSCALE:GREGORIAN
METHOD:PUBLISH
X-WR-CALNAME:The Sustainability Consortium
X-ORIGINAL-URL:https://www.impact.sustainabilityconsortium.org
X-WR-CALDESC:Events for The Sustainability Consortium
REFRESH-INTERVAL;VALUE=DURATION:PT1H
X-Robots-Tag:noindex
X-PUBLISHED-TTL:PT1H
BEGIN:VTIMEZONE
TZID:America/Phoenix
BEGIN:STANDARD
TZOFFSETFROM:-0700
TZOFFSETTO:-0700
TZNAME:MST
DTSTART:20180101T000000
END:STANDARD
END:VTIMEZONE
BEGIN:VTIMEZONE
TZID:America/New_York
BEGIN:DAYLIGHT
TZOFFSETFROM:-0500
TZOFFSETTO:-0400
TZNAME:EDT
DTSTART:20170312T070000
END:DAYLIGHT
BEGIN:STANDARD
TZOFFSETFROM:-0400
TZOFFSETTO:-0500
TZNAME:EST
DTSTART:20171105T060000
END:STANDARD
BEGIN:DAYLIGHT
TZOFFSETFROM:-0500
TZOFFSETTO:-0400
TZNAME:EDT
DTSTART:20180311T070000
END:DAYLIGHT
BEGIN:STANDARD
TZOFFSETFROM:-0400
TZOFFSETTO:-0500
TZNAME:EST
DTSTART:20181104T060000
END:STANDARD
BEGIN:DAYLIGHT
TZOFFSETFROM:-0500
TZOFFSETTO:-0400
TZNAME:EDT
DTSTART:20190310T070000
END:DAYLIGHT
BEGIN:STANDARD
TZOFFSETFROM:-0400
TZOFFSETTO:-0500
TZNAME:EST
DTSTART:20191103T060000
END:STANDARD
BEGIN:DAYLIGHT
TZOFFSETFROM:-0500
TZOFFSETTO:-0400
TZNAME:EDT
DTSTART:20200308T070000
END:DAYLIGHT
BEGIN:STANDARD
TZOFFSETFROM:-0400
TZOFFSETTO:-0500
TZNAME:EST
DTSTART:20201101T060000
END:STANDARD
END:VTIMEZONE
BEGIN:VTIMEZONE
TZID:Europe/London
BEGIN:DAYLIGHT
TZOFFSETFROM:+0000
TZOFFSETTO:+0100
TZNAME:BST
DTSTART:20170326T010000
END:DAYLIGHT
BEGIN:STANDARD
TZOFFSETFROM:+0100
TZOFFSETTO:+0000
TZNAME:GMT
DTSTART:20171029T010000
END:STANDARD
BEGIN:DAYLIGHT
TZOFFSETFROM:+0000
TZOFFSETTO:+0100
TZNAME:BST
DTSTART:20180325T010000
END:DAYLIGHT
BEGIN:STANDARD
TZOFFSETFROM:+0100
TZOFFSETTO:+0000
TZNAME:GMT
DTSTART:20181028T010000
END:STANDARD
BEGIN:DAYLIGHT
TZOFFSETFROM:+0000
TZOFFSETTO:+0100
TZNAME:BST
DTSTART:20190331T010000
END:DAYLIGHT
BEGIN:STANDARD
TZOFFSETFROM:+0100
TZOFFSETTO:+0000
TZNAME:GMT
DTSTART:20191027T010000
END:STANDARD
END:VTIMEZONE
BEGIN:VEVENT
DTSTART;VALUE=DATE:20190716
DTEND;VALUE=DATE:20190719
DTSTAMP:20260420T080042
CREATED:20190301T173032Z
LAST-MODIFIED:20190301T173032Z
UID:29072-1563235200-1563494399@www.impact.sustainabilityconsortium.org
SUMMARY:Soil Health Institute’s 4th Annual Meeting
DESCRIPTION:Frequently Asked Questions About Our Annual Meetings\nWhat topics are covered? \nIf you want to be up-to-date on where soil health research and policy are headed for 2020\, the 4th Annual Meeting is a must-attend event. Soil health’s leading experts break into five high-functioning Action Teams: Research; Measurements\, Standards\, and Assessment; Policy; Economics; and Communications and Education. You’ll be directly involved in advancing soil health. \nMost attendees have advanced degrees in soil science or a related discipline and discussion leans more technical than general. \nAre there production breakout sessions? \nThe Soil Health Institute’s annual meeting isn’t designed to replace Agricultural Extension meetings\, farm tours\, commodity or soil conservation meetings. In the past\, most producers who attended and said they valued the meeting content had graduate degrees in agriculture or a biological\, chemical or physical science\, or they have cooperated in on-farm research tests. \nHow do I get on the annual meeting email list? \nAll SHI information subscribers will receive updates regarding the annual meeting\, convenient opportunities to register for the conference\, and early-registration hotel room discounts. Please subscribe here.
URL:https://www.impact.sustainabilityconsortium.org/events/soil-health-institutes-4th-annual-meeting/
LOCATION:Hyatt Regency Sacramento\, 1209 L Street\, Sacramento\, CA\, 95814\, United States
CATEGORIES:Meeting
ATTACH;FMTTYPE=image/jpeg:https://www.impact.sustainabilityconsortium.org/wp-content/uploads/2019/03/events-soil-health-meeting.jpg
END:VEVENT
BEGIN:VEVENT
DTSTART;TZID=America/New_York:20190212T133000
DTEND;TZID=America/New_York:20190212T143000
DTSTAMP:20260420T080042
CREATED:20190208T225654Z
LAST-MODIFIED:20190208T225654Z
UID:28638-1549978200-1549981800@www.impact.sustainabilityconsortium.org
SUMMARY:National Battery Day on Capitol Hill
DESCRIPTION:National Battery Day provides an opportunity to engage with policymakers on the essentiality of lead batteries and the innovative research to improve their performance for automotive and energy storage applications. Global energy demand is expected to increase by 30% between 2018 and 2040. This is the equivalent of adding another China and India to our planet. Renewable energy sources are expected to provide 40% of that power generation. To address these needs and in recognition of National Battery Day\, a panel of leading science and business leaders will share updates on innovative lead battery research as well as public/private partnerships to meet the need for renewable energy and create efficient energy models to lower the planet’s carbon footprint and stabilize the grid. \n\nSpeaking from TSC\n\nCarole Mars\,\nDirector\, Innovation and Technical Development
URL:https://www.impact.sustainabilityconsortium.org/events/national-battery-day-on-capitol-hill/
LOCATION:U.S. Capitol Visitors Center\, First St NE\, Washington\, DC\, 20515\, United States
CATEGORIES:Meeting
ATTACH;FMTTYPE=image/jpeg:https://www.impact.sustainabilityconsortium.org/wp-content/uploads/2019/02/iStock-187169449-705x400.jpg
END:VEVENT
BEGIN:VEVENT
DTSTART;TZID=Europe/London:20180816T110000
DTEND;TZID=Europe/London:20180816T120000
DTSTAMP:20260420T080042
CREATED:20180810T180640Z
LAST-MODIFIED:20180810T180640Z
UID:26304-1534417200-1534420800@www.impact.sustainabilityconsortium.org
SUMMARY:Webinar: SDGs Integration Across the Supply Chain
DESCRIPTION:Aug 16\, 2018\n11am – 12pm BST\n\nWebinar \n\nThe recent Ethical Corporation Global Trends report found that nearly 7 in 10 businesses are integrating the SDGs into business strategies. Supply chain\, sustainability and procurement are critical components to ensuring the Global Goals are met. But how do you successfully integrate the SDGs into your operations? \n\n\nJoin us for this free webinar and learn how to: \n\nIdentify the meaningful SDGs to your business\nMap against your operations on a local\, national and regional level\nEngage the business and suppliers on the need and opportunities to integrate them across the supply chain functions\nMeasure your impacts against the SDGs\nImplement an SDG-driven supply chain across your operations to drive business\, climate and social impact\n\nCan’t make it? Sign up anyway to receive the full post-webinar recordings \n 
URL:https://www.impact.sustainabilityconsortium.org/events/webinar-sdgs-integration-across-the-supply-chain/
LOCATION:Webinar
CATEGORIES:Clothing Footwear and Textiles,Electronics,Food Beverage and Agriculture,For Retailers,For Suppliers,Forum,General Merchandise,Home and Personal Care,Meeting,Packaging,Paper Pulp and Forestry,Training,Webinar
ATTACH;FMTTYPE=image/png:https://www.impact.sustainabilityconsortium.org/wp-content/uploads/2018/07/ethical-corporation-logo-1.png
END:VEVENT
BEGIN:VEVENT
DTSTART;TZID=America/New_York:20180213T140000
DTEND;TZID=America/New_York:20180213T150000
DTSTAMP:20260420T080042
CREATED:20180209T230247Z
LAST-MODIFIED:20180209T230247Z
UID:22963-1518530400-1518534000@www.impact.sustainabilityconsortium.org
SUMMARY:Vehicle Battery Sustainability: Recycling 2 Million More
DESCRIPTION:  \nFeatured panelists: \n\nPat Hayes\, Executive Director\, Responsible Battery Coalition\nRamon Sanchez\, Ph.D.\, Director\, Sustainable Technologies and Health Program\, Harvard T.H. Chan School of Public Health\nAdam Muellerweiss\, Executive Director\, Sustainability\, Industry\, and Government Affairs\, Johnson Controls\nJonathan Moser\, Head\, Environment and Public Affairs – Canada\, Lafarge Canada\nRay Pohlman\, Vice President\, Government and Community Relations\, AutoZone\nMicah Thompson\, Senior Manager\, Environmental Affairs\, Advance Auto Parts\n\n 
URL:https://www.impact.sustainabilityconsortium.org/events/vehicle-battery-sustainability-recycling-2-million/
LOCATION:U.S. Capitol Visitors Center\, First St NE\, Washington\, DC\, 20515\, United States
CATEGORIES:Electronics,General Merchandise,Meeting
END:VEVENT
END:VCALENDAR